Package: Clomial Version: 1.40.0 Command: rm -rf Clomial.buildbin-libdir && mkdir Clomial.buildbin-libdir && F:\biocbuild\bbs-3.19-bioc\R\bin\R.exe CMD INSTALL --build --library=Clomial.buildbin-libdir Clomial_1.40.0.tar.gz StartedAt: 2024-06-27 08:00:12 -0400 (Thu, 27 Jun 2024) EndedAt: 2024-06-27 08:00:20 -0400 (Thu, 27 Jun 2024) EllapsedTime: 7.7 seconds RetCode: 0 Status: OK PackageFile: Clomial_1.40.0.zip PackageFileSize: 1.42 MiB