Package: Clomial Version: 1.40.0 Command: chmod a+r Clomial -R && E:\biocbuild\bbs-3.19-bioc\R\bin\R.exe CMD build --keep-empty-dirs --no-resave-data Clomial StartedAt: 2024-10-16 18:14:54 -0400 (Wed, 16 Oct 2024) EndedAt: 2024-10-16 18:15:23 -0400 (Wed, 16 Oct 2024) EllapsedTime: 29.3 seconds RetCode: 0 Status: OK PackageFile: Clomial_1.40.0.tar.gz PackageFileSize: 1.354 MiB