Package: ClustIRR Version: 1.2.0 Command: /Library/Frameworks/R.framework/Resources/bin/R CMD build --keep-empty-dirs --no-resave-data ClustIRR StartedAt: 2024-10-16 21:51:09 -0400 (Wed, 16 Oct 2024) EndedAt: 2024-10-16 21:51:45 -0400 (Wed, 16 Oct 2024) EllapsedTime: 35.8 seconds RetCode: 0 Status: OK PackageFile: ClustIRR_1.2.0.tar.gz PackageFileSize: 1014 KiB