Package: ClustIRR Version: 1.2.0 Command: /Library/Frameworks/R.framework/Resources/bin/R CMD check --install=check:ClustIRR.install-out.txt --library=/Library/Frameworks/R.framework/Resources/library --no-vignettes --timings ClustIRR_1.2.0.tar.gz StartedAt: 2024-06-09 19:29:30 -0400 (Sun, 09 Jun 2024) EndedAt: 2024-06-09 19:32:33 -0400 (Sun, 09 Jun 2024) EllapsedTime: 183.1 seconds RetCode: 0 Status: OK CheckDir: ClustIRR.Rcheck Warnings: 0