Package: ClustIRR Version: 1.2.0 Command: rm -rf ClustIRR.buildbin-libdir && mkdir ClustIRR.buildbin-libdir && F:\biocbuild\bbs-3.19-bioc\R\bin\R.exe CMD INSTALL --build --library=ClustIRR.buildbin-libdir ClustIRR_1.2.0.tar.gz StartedAt: 2024-06-27 08:00:40 -0400 (Thu, 27 Jun 2024) EndedAt: 2024-06-27 08:01:02 -0400 (Thu, 27 Jun 2024) EllapsedTime: 22.3 seconds RetCode: 0 Status: OK PackageFile: ClustIRR_1.2.0.zip PackageFileSize: 1.052 MiB