Package: ClustIRR Version: 1.2.0 Command: chmod a+r ClustIRR -R && F:\biocbuild\bbs-3.19-bioc\R\bin\R.exe CMD build --keep-empty-dirs --no-resave-data ClustIRR StartedAt: 2024-06-26 17:52:51 -0400 (Wed, 26 Jun 2024) EndedAt: 2024-06-26 17:53:31 -0400 (Wed, 26 Jun 2024) EllapsedTime: 39.5 seconds RetCode: 0 Status: OK PackageFile: ClustIRR_1.2.0.tar.gz PackageFileSize: 985.7 KiB