Package: ClusterJudge Version: 1.26.0 Command: /Library/Frameworks/R.framework/Resources/bin/R CMD INSTALL ClusterJudge StartedAt: 2024-10-16 15:51:05 -0400 (Wed, 16 Oct 2024) EndedAt: 2024-10-16 15:51:12 -0400 (Wed, 16 Oct 2024) EllapsedTime: 6.6 seconds RetCode: 0 Status: OK