Package: ClusterJudge Version: 1.26.0 Command: chmod a+r ClusterJudge -R && E:\biocbuild\bbs-3.19-bioc\R\bin\R.exe CMD build --keep-empty-dirs --no-resave-data ClusterJudge StartedAt: 2024-10-16 18:15:44 -0400 (Wed, 16 Oct 2024) EndedAt: 2024-10-16 18:16:54 -0400 (Wed, 16 Oct 2024) EllapsedTime: 69.8 seconds RetCode: 0 Status: OK PackageFile: ClusterJudge_1.26.0.tar.gz PackageFileSize: 846 KiB