Package: CoCiteStats Version: 1.76.0 Command: rm -rf CoCiteStats.buildbin-libdir && mkdir CoCiteStats.buildbin-libdir && /Users/biocbuild/BBS/utils/build-universal.sh CoCiteStats_1.76.0.tar.gz /Library/Frameworks/R.framework/Resources/bin/R CoCiteStats.buildbin-libdir StartedAt: 2024-10-18 17:52:09 -0400 (Fri, 18 Oct 2024) EndedAt: 2024-10-18 17:52:28 -0400 (Fri, 18 Oct 2024) EllapsedTime: 19.3 seconds RetCode: 0 Status: OK PackageFile: CoCiteStats_1.76.0.tgz PackageFileSize: 31.77 KiB