############################################################################## ############################################################################## ### ### Running command: ### ### /Library/Frameworks/R.framework/Resources/bin/R CMD check --install=check:CoCiteStats.install-out.txt --library=/Library/Frameworks/R.framework/Resources/library --no-vignettes --timings CoCiteStats_1.76.0.tar.gz ### ############################################################################## ############################################################################## * using log directory ‘/Users/biocbuild/bbs-3.19-bioc/meat/CoCiteStats.Rcheck’ * using R version 4.4.1 (2024-06-14) * using platform: aarch64-apple-darwin20 * R was compiled by Apple clang version 14.0.0 (clang-1400.0.29.202) GNU Fortran (GCC) 12.2.0 * running under: macOS Ventura 13.6.6 * using session charset: UTF-8 * using option ‘--no-vignettes’ * checking for file ‘CoCiteStats/DESCRIPTION’ ... OK * this is package ‘CoCiteStats’ version ‘1.76.0’ * checking package namespace information ... OK * checking package dependencies ... OK * checking if this is a source package ... OK * checking if there is a namespace ... OK * checking for hidden files and directories ... OK * checking for portable file names ... OK * checking for sufficient/correct file permissions ... OK * checking whether package ‘CoCiteStats’ can be installed ... OK * checking installed package size ... OK * checking package directory ... OK * checking DESCRIPTION meta-information ... NOTE Malformed Title field: should not end in a period. * checking top-level files ... OK * checking for left-over files ... OK * checking index information ... OK * checking package subdirectories ... OK * checking code files for non-ASCII characters ... OK * checking R files for syntax errors ... OK * checking whether the package can be loaded ... OK * checking whether the package can be loaded with stated dependencies ... OK * checking whether the package can be unloaded cleanly ... OK * checking whether the namespace can be loaded with stated dependencies ... OK * checking whether the namespace can be unloaded cleanly ... OK * checking dependencies in R code ... NOTE Package in Depends field not imported from: ‘org.Hs.eg.db’ These packages need to be imported from (in the NAMESPACE file) for when this namespace is loaded but not attached. * checking S3 generic/method consistency ... OK * checking replacement functions ... OK * checking foreign function calls ... OK * checking R code for possible problems ... NOTE gene.geneslist.sig: no visible global function definition for ‘Lkeys’ gene.geneslist.sig: no visible binding for global variable ‘org.Hs.egPMID’ paperLen: no visible global function definition for ‘toTable’ paperLen: no visible binding for global variable ‘org.Hs.egPMID’ paperLen: no visible global function definition for ‘nhit’ paperLen: no visible global function definition for ‘revmap’ Undefined global functions or variables: Lkeys nhit org.Hs.egPMID revmap toTable * checking Rd files ... NOTE prepare_Rd: gene.geneslist.statistic.Rd:19-21: Dropping empty section \details * checking Rd metadata ... OK * checking Rd cross-references ... OK * checking for missing documentation entries ... OK * checking for code/documentation mismatches ... OK * checking Rd \usage sections ... OK * checking Rd contents ... OK * checking for unstated dependencies in examples ... OK * checking examples ... OK Examples with CPU (user + system) or elapsed time > 5s user system elapsed gene.geneslist.sig 43.461 1.596 46.641 actorAdjTable 37.102 4.603 43.952 twowayTable 29.506 0.507 32.451 gene.geneslist.statistic 28.454 0.592 30.364 gene.gene.statistic 27.907 0.623 29.718 paperLen 27.074 0.402 28.714 twTStats 26.089 0.310 27.664 * checking PDF version of manual ... OK * DONE Status: 4 NOTEs See ‘/Users/biocbuild/bbs-3.19-bioc/meat/CoCiteStats.Rcheck/00check.log’ for details.