Package: CoCiteStats Version: 1.76.0 Command: rm -rf CoCiteStats.buildbin-libdir && mkdir CoCiteStats.buildbin-libdir && /Users/biocbuild/BBS/utils/build-universal.sh CoCiteStats_1.76.0.tar.gz /Library/Frameworks/R.framework/Resources/bin/R CoCiteStats.buildbin-libdir StartedAt: 2024-06-11 10:39:21 -0400 (Tue, 11 Jun 2024) EndedAt: 2024-06-11 10:39:49 -0400 (Tue, 11 Jun 2024) EllapsedTime: 27.9 seconds RetCode: 0 Status: OK PackageFile: CoCiteStats_1.76.0.tgz PackageFileSize: 31.66 KiB