Package: CoCiteStats Version: 1.76.0 Command: /home/biocbuild/R/R-beta-2024-04-15_r86425/bin/R CMD INSTALL CoCiteStats StartedAt: 2024-05-08 20:18:21 -0000 (Wed, 08 May 2024) EndedAt: 2024-05-08 20:18:39 -0000 (Wed, 08 May 2024) EllapsedTime: 17.8 seconds RetCode: 0 Status: OK