Package: CoCiteStats Version: 1.76.0 Command: /Library/Frameworks/R.framework/Resources/bin/R CMD check --install=check:CoCiteStats.install-out.txt --library=/Library/Frameworks/R.framework/Resources/library --no-vignettes --timings CoCiteStats_1.76.0.tar.gz StartedAt: 2024-06-09 19:32:50 -0400 (Sun, 09 Jun 2024) EndedAt: 2024-06-09 19:37:26 -0400 (Sun, 09 Jun 2024) EllapsedTime: 275.9 seconds RetCode: 0 Status: OK CheckDir: CoCiteStats.Rcheck Warnings: 0