Package: CoCiteStats Version: 1.76.0 Command: /home/biocbuild/bbs-3.19-bioc/R/bin/R CMD check --install=check:CoCiteStats.install-out.txt --library=/home/biocbuild/bbs-3.19-bioc/R/site-library --timings CoCiteStats_1.76.0.tar.gz StartedAt: 2024-10-16 22:57:34 -0400 (Wed, 16 Oct 2024) EndedAt: 2024-10-16 23:01:19 -0400 (Wed, 16 Oct 2024) EllapsedTime: 225.4 seconds RetCode: 0 Status: OK CheckDir: CoCiteStats.Rcheck Warnings: 0