Package: CoCiteStats Version: 1.76.0 Command: chmod a+r CoCiteStats -R && F:\biocbuild\bbs-3.19-bioc\R\bin\R.exe CMD build --keep-empty-dirs --no-resave-data CoCiteStats StartedAt: 2024-06-26 17:55:18 -0400 (Wed, 26 Jun 2024) EndedAt: 2024-06-26 17:55:20 -0400 (Wed, 26 Jun 2024) EllapsedTime: 2.0 seconds RetCode: 0 Status: OK PackageFile: CoCiteStats_1.76.0.tar.gz PackageFileSize: 5.344 KiB