Package: CoCiteStats Version: 1.76.0 Command: E:\biocbuild\bbs-3.19-bioc\R\bin\R.exe CMD check --no-multiarch --install=check:CoCiteStats.install-out.txt --library=E:\biocbuild\bbs-3.19-bioc\R\library --no-vignettes --timings CoCiteStats_1.76.0.tar.gz StartedAt: 2024-10-17 00:11:08 -0400 (Thu, 17 Oct 2024) EndedAt: 2024-10-17 00:16:20 -0400 (Thu, 17 Oct 2024) EllapsedTime: 312.7 seconds RetCode: 0 Status: OK CheckDir: CoCiteStats.Rcheck Warnings: 0