Package: CoGAPS Version: 3.24.0 Command: rm -rf CoGAPS.buildbin-libdir && mkdir CoGAPS.buildbin-libdir && /Users/biocbuild/BBS/utils/build-universal.sh CoGAPS_3.24.0.tar.gz /Library/Frameworks/R.framework/Resources/bin/R CoGAPS.buildbin-libdir StartedAt: 2024-10-18 17:52:28 -0400 (Fri, 18 Oct 2024) EndedAt: 2024-10-18 17:54:56 -0400 (Fri, 18 Oct 2024) EllapsedTime: 147.3 seconds RetCode: 0 Status: OK PackageFile: CoGAPS_3.24.0.tgz PackageFileSize: 20.33 MiB