Package: CoGAPS Version: 3.24.0 Command: /Library/Frameworks/R.framework/Resources/bin/R CMD INSTALL CoGAPS StartedAt: 2024-10-16 18:03:19 -0400 (Wed, 16 Oct 2024) EndedAt: 2024-10-16 18:05:10 -0400 (Wed, 16 Oct 2024) EllapsedTime: 111.5 seconds RetCode: 0 Status: OK