Package: CoGAPS Version: 3.24.0 Command: rm -rf CoGAPS.buildbin-libdir && mkdir CoGAPS.buildbin-libdir && /Users/biocbuild/BBS/utils/build-universal.sh CoGAPS_3.24.0.tar.gz /Library/Frameworks/R.framework/Resources/bin/R CoGAPS.buildbin-libdir StartedAt: 2024-06-11 10:39:52 -0400 (Tue, 11 Jun 2024) EndedAt: 2024-06-11 10:44:12 -0400 (Tue, 11 Jun 2024) EllapsedTime: 260.5 seconds RetCode: 0 Status: OK PackageFile: CoGAPS_3.24.0.tgz PackageFileSize: 20.33 MiB