Package: CoGAPS Version: 3.24.0 Command: /home/biocbuild/R/R-beta-2024-04-15_r86425/bin/R CMD build --keep-empty-dirs --no-resave-data CoGAPS StartedAt: 2024-05-08 23:27:13 -0000 (Wed, 08 May 2024) EndedAt: 2024-05-08 23:29:45 -0000 (Wed, 08 May 2024) EllapsedTime: 151.2 seconds RetCode: 0 Status: OK PackageFile: CoGAPS_3.24.0.tar.gz PackageFileSize: 19.89 MiB