Package: CoGAPS Version: 3.24.0 Command: /home/biocbuild/bbs-3.19-bioc/R/bin/R CMD build --keep-empty-dirs --no-resave-data CoGAPS StartedAt: 2024-10-16 17:53:51 -0400 (Wed, 16 Oct 2024) EndedAt: 2024-10-16 17:55:26 -0400 (Wed, 16 Oct 2024) EllapsedTime: 95.2 seconds RetCode: 0 Status: OK PackageFile: CoGAPS_3.24.0.tar.gz PackageFileSize: 19.89 MiB