Package: CoGAPS Version: 3.24.0 Command: chmod a+r CoGAPS -R && F:\biocbuild\bbs-3.19-bioc\R\bin\R.exe CMD build --keep-empty-dirs --no-resave-data CoGAPS StartedAt: 2024-06-26 17:56:00 -0400 (Wed, 26 Jun 2024) EndedAt: 2024-06-26 17:58:26 -0400 (Wed, 26 Jun 2024) EllapsedTime: 145.9 seconds RetCode: 0 Status: OK PackageFile: CoGAPS_3.24.0.tar.gz PackageFileSize: 19.86 MiB