Package: CoGAPS Version: 3.24.0 Command: rm -rf CoGAPS.buildbin-libdir && mkdir CoGAPS.buildbin-libdir && E:\biocbuild\bbs-3.19-bioc\R\bin\R.exe CMD INSTALL --build --library=CoGAPS.buildbin-libdir CoGAPS_3.24.0.tar.gz StartedAt: 2024-10-17 07:34:29 -0400 (Thu, 17 Oct 2024) EndedAt: 2024-10-17 07:37:07 -0400 (Thu, 17 Oct 2024) EllapsedTime: 157.2 seconds RetCode: 0 Status: OK PackageFile: CoGAPS_3.24.0.zip PackageFileSize: 20.58 MiB