Package: CoGAPS Version: 3.24.0 Command: chmod a+r CoGAPS -R && E:\biocbuild\bbs-3.19-bioc\R\bin\R.exe CMD build --keep-empty-dirs --no-resave-data CoGAPS StartedAt: 2024-10-16 18:19:02 -0400 (Wed, 16 Oct 2024) EndedAt: 2024-10-16 18:21:33 -0400 (Wed, 16 Oct 2024) EllapsedTime: 150.8 seconds RetCode: 0 Status: OK PackageFile: CoGAPS_3.24.0.tar.gz PackageFileSize: 19.86 MiB