Package: CoRegNet Version: 1.42.0 Command: /Library/Frameworks/R.framework/Resources/bin/R CMD check --install=check:CoRegNet.install-out.txt --library=/Library/Frameworks/R.framework/Resources/library --no-vignettes --timings CoRegNet_1.42.0.tar.gz StartedAt: 2024-10-17 17:26:07 -0400 (Thu, 17 Oct 2024) EndedAt: 2024-10-17 17:28:21 -0400 (Thu, 17 Oct 2024) EllapsedTime: 133.8 seconds RetCode: 0 Status: WARNINGS CheckDir: CoRegNet.Rcheck Warnings: 1