Package: CoRegNet Version: 1.42.0 Command: /Library/Frameworks/R.framework/Resources/bin/R CMD build --keep-empty-dirs --no-resave-data CoRegNet StartedAt: 2024-06-09 16:18:38 -0400 (Sun, 09 Jun 2024) EndedAt: 2024-06-09 16:18:57 -0400 (Sun, 09 Jun 2024) EllapsedTime: 19.2 seconds RetCode: 0 Status: OK PackageFile: CoRegNet_1.42.0.tar.gz PackageFileSize: 4.871 MiB