Package: ComPrAn Version: 1.12.0 Maintainer: Petra Palenikova MaintainerEmail: palenikova3 at gmail.com git_url: https://git.bioconductor.org/packages/ComPrAn git_branch: RELEASE_3_19 git_last_commit: d37f713 git_last_commit_date: 2024-04-30 11:31:46 -0400 (Tue, 30 Apr 2024)