Package: ComPrAn Version: 1.12.0 Command: rm -rf ComPrAn.buildbin-libdir && mkdir ComPrAn.buildbin-libdir && /Users/biocbuild/BBS/utils/build-universal.sh ComPrAn_1.12.0.tar.gz /Library/Frameworks/R.framework/Resources/bin/R ComPrAn.buildbin-libdir StartedAt: 2024-10-18 17:54:41 -0400 (Fri, 18 Oct 2024) EndedAt: 2024-10-18 17:54:51 -0400 (Fri, 18 Oct 2024) EllapsedTime: 10.3 seconds RetCode: 0 Status: OK PackageFile: ComPrAn_1.12.0.tgz PackageFileSize: 2.559 MiB