Package: ComPrAn Version: 1.12.0 Command: /Library/Frameworks/R.framework/Resources/bin/R CMD build --keep-empty-dirs --no-resave-data ComPrAn StartedAt: 2024-06-09 19:50:05 -0400 (Sun, 09 Jun 2024) EndedAt: 2024-06-09 19:50:34 -0400 (Sun, 09 Jun 2024) EllapsedTime: 28.3 seconds RetCode: 0 Status: OK PackageFile: ComPrAn_1.12.0.tar.gz PackageFileSize: 3.35 MiB