Package: ComPrAn Version: 1.12.0 Command: chmod a+r ComPrAn -R && F:\biocbuild\bbs-3.19-bioc\R\bin\R.exe CMD build --keep-empty-dirs --no-resave-data ComPrAn StartedAt: 2024-06-26 17:59:29 -0400 (Wed, 26 Jun 2024) EndedAt: 2024-06-26 18:00:05 -0400 (Wed, 26 Jun 2024) EllapsedTime: 36.4 seconds RetCode: 0 Status: OK PackageFile: ComPrAn_1.12.0.tar.gz PackageFileSize: 3.053 MiB