Package: ComPrAn Version: 1.12.0 Command: F:\biocbuild\bbs-3.19-bioc\R\bin\R.exe CMD INSTALL ComPrAn StartedAt: 2024-06-26 16:16:43 -0400 (Wed, 26 Jun 2024) EndedAt: 2024-06-26 16:16:55 -0400 (Wed, 26 Jun 2024) EllapsedTime: 11.6 seconds RetCode: 0 Status: OK