Package: ComPrAn Version: 1.12.0 Command: rm -rf ComPrAn.buildbin-libdir && mkdir ComPrAn.buildbin-libdir && E:\biocbuild\bbs-3.19-bioc\R\bin\R.exe CMD INSTALL --build --library=ComPrAn.buildbin-libdir ComPrAn_1.12.0.tar.gz StartedAt: 2024-10-17 07:35:05 -0400 (Thu, 17 Oct 2024) EndedAt: 2024-10-17 07:35:23 -0400 (Thu, 17 Oct 2024) EllapsedTime: 18.1 seconds RetCode: 0 Status: OK PackageFile: ComPrAn_1.12.0.zip PackageFileSize: 2.257 MiB