Package: CoverageView Version: 1.42.0 Command: rm -rf CoverageView.buildbin-libdir && mkdir CoverageView.buildbin-libdir && /Users/biocbuild/BBS/utils/build-universal.sh CoverageView_1.42.0.tar.gz /Library/Frameworks/R.framework/Resources/bin/R CoverageView.buildbin-libdir StartedAt: 2024-10-18 17:57:33 -0400 (Fri, 18 Oct 2024) EndedAt: 2024-10-18 17:58:18 -0400 (Fri, 18 Oct 2024) EllapsedTime: 45.2 seconds RetCode: 0 Status: OK PackageFile: CoverageView_1.42.0.tgz PackageFileSize: 2.958 MiB