Package: CoverageView Version: 1.42.0 Command: /home/biocbuild/R/R-beta-2024-04-15_r86425/bin/R CMD check --install=check:CoverageView.install-out.txt --library=/home/biocbuild/R/R-beta-2024-04-15_r86425/site-library --no-vignettes --timings CoverageView_1.42.0.tar.gz StartedAt: 2024-05-09 06:15:09 -0000 (Thu, 09 May 2024) EndedAt: 2024-05-09 06:19:43 -0000 (Thu, 09 May 2024) EllapsedTime: 273.4 seconds RetCode: 0 Status: WARNINGS CheckDir: CoverageView.Rcheck Warnings: 1