Package: CoverageView Version: 1.42.0 Command: /Library/Frameworks/R.framework/Resources/bin/R CMD check --install=check:CoverageView.install-out.txt --library=/Library/Frameworks/R.framework/Resources/library --no-vignettes --timings CoverageView_1.42.0.tar.gz StartedAt: 2024-06-09 19:39:55 -0400 (Sun, 09 Jun 2024) EndedAt: 2024-06-09 19:43:49 -0400 (Sun, 09 Jun 2024) EllapsedTime: 234.2 seconds RetCode: 0 Status: WARNINGS CheckDir: CoverageView.Rcheck Warnings: 1