Package: CoverageView Version: 1.42.0 Command: /home/biocbuild/bbs-3.19-bioc/R/bin/R CMD check --install=check:CoverageView.install-out.txt --library=/home/biocbuild/bbs-3.19-bioc/R/site-library --timings CoverageView_1.42.0.tar.gz StartedAt: 2024-10-16 23:09:57 -0400 (Wed, 16 Oct 2024) EndedAt: 2024-10-16 23:13:53 -0400 (Wed, 16 Oct 2024) EllapsedTime: 236.5 seconds RetCode: 0 Status: WARNINGS CheckDir: CoverageView.Rcheck Warnings: 1