Package: CrispRVariants Version: 1.32.0 Command: rm -rf CrispRVariants.buildbin-libdir && mkdir CrispRVariants.buildbin-libdir && /Users/biocbuild/BBS/utils/build-universal.sh CrispRVariants_1.32.0.tar.gz /Library/Frameworks/R.framework/Resources/bin/R CrispRVariants.buildbin-libdir StartedAt: 2024-10-17 15:56:24 -0400 (Thu, 17 Oct 2024) EndedAt: 2024-10-17 15:58:06 -0400 (Thu, 17 Oct 2024) EllapsedTime: 101.5 seconds RetCode: 0 Status: OK PackageFile: CrispRVariants_1.32.0.tgz PackageFileSize: 3.923 MiB