Package: CrispRVariants Version: 1.32.0 Command: chmod a+r CrispRVariants -R && E:\biocbuild\bbs-3.19-bioc\R\bin\R.exe CMD build --keep-empty-dirs --no-resave-data CrispRVariants StartedAt: 2024-10-16 18:26:36 -0400 (Wed, 16 Oct 2024) EndedAt: 2024-10-16 18:29:14 -0400 (Wed, 16 Oct 2024) EllapsedTime: 157.6 seconds RetCode: 0 Status: OK PackageFile: CrispRVariants_1.32.0.tar.gz PackageFileSize: 2.009 MiB