Package: CyTOFpower Version: 1.10.0 Command: /home/biocbuild/bbs-3.19-bioc/R/bin/R CMD check --install=check:CyTOFpower.install-out.txt --library=/home/biocbuild/bbs-3.19-bioc/R/site-library --timings CyTOFpower_1.10.0.tar.gz StartedAt: 2024-10-16 23:22:07 -0400 (Wed, 16 Oct 2024) EndedAt: 2024-10-16 23:23:17 -0400 (Wed, 16 Oct 2024) EllapsedTime: 70.1 seconds RetCode: 0 Status: OK CheckDir: CyTOFpower.Rcheck Warnings: 0