Package: CytoDx Version: 1.24.0 Command: rm -rf CytoDx.buildbin-libdir && mkdir CytoDx.buildbin-libdir && /Users/biocbuild/BBS/utils/build-universal.sh CytoDx_1.24.0.tar.gz /Library/Frameworks/R.framework/Resources/bin/R CytoDx.buildbin-libdir StartedAt: 2024-06-10 00:13:51 -0400 (Mon, 10 Jun 2024) EndedAt: 2024-06-10 00:14:08 -0400 (Mon, 10 Jun 2024) EllapsedTime: 16.9 seconds RetCode: 0 Status: OK PackageFile: CytoDx_1.24.0.tgz PackageFileSize: 516.8 KiB