Package: CytoDx Version: 1.24.0 Command: /home/biocbuild/bbs-3.19-bioc/R/bin/R CMD check --install=check:CytoDx.install-out.txt --library=/home/biocbuild/bbs-3.19-bioc/R/site-library --timings CytoDx_1.24.0.tar.gz StartedAt: 2024-10-16 23:22:05 -0400 (Wed, 16 Oct 2024) EndedAt: 2024-10-16 23:23:40 -0400 (Wed, 16 Oct 2024) EllapsedTime: 95.2 seconds RetCode: 0 Status: OK CheckDir: CytoDx.Rcheck Warnings: 0