Package: CytoDx Version: 1.24.0 Command: rm -rf CytoDx.buildbin-libdir && mkdir CytoDx.buildbin-libdir && F:\biocbuild\bbs-3.19-bioc\R\bin\R.exe CMD INSTALL --build --library=CytoDx.buildbin-libdir CytoDx_1.24.0.tar.gz StartedAt: 2024-06-27 08:04:21 -0400 (Thu, 27 Jun 2024) EndedAt: 2024-06-27 08:04:57 -0400 (Thu, 27 Jun 2024) EllapsedTime: 36.2 seconds RetCode: 0 Status: OK PackageFile: CytoDx_1.24.0.zip PackageFileSize: 563.6 KiB