Package: CytoGLMM Version: 1.12.0 Command: rm -rf CytoGLMM.buildbin-libdir && mkdir CytoGLMM.buildbin-libdir && /Users/biocbuild/BBS/utils/build-universal.sh CytoGLMM_1.12.0.tar.gz /Library/Frameworks/R.framework/Resources/bin/R CytoGLMM.buildbin-libdir StartedAt: 2024-10-18 18:03:04 -0400 (Fri, 18 Oct 2024) EndedAt: 2024-10-18 18:03:23 -0400 (Fri, 18 Oct 2024) EllapsedTime: 19.4 seconds RetCode: 0 Status: OK PackageFile: CytoGLMM_1.12.0.tgz PackageFileSize: 428.6 KiB