Package: CytoGLMM Version: 1.12.0 Command: /Library/Frameworks/R.framework/Resources/bin/R CMD build --keep-empty-dirs --no-resave-data CytoGLMM StartedAt: 2024-10-16 22:35:51 -0400 (Wed, 16 Oct 2024) EndedAt: 2024-10-16 22:38:14 -0400 (Wed, 16 Oct 2024) EllapsedTime: 142.8 seconds RetCode: 0 Status: OK PackageFile: CytoGLMM_1.12.0.tar.gz PackageFileSize: 344.3 KiB