Package: CytoMDS Version: 1.0.0 Command: /home/biocbuild/R/R-beta-2024-04-15_r86425/bin/R CMD build --keep-empty-dirs --no-resave-data CytoMDS StartedAt: 2024-05-08 23:41:46 -0000 (Wed, 08 May 2024) EndedAt: 2024-05-08 23:45:14 -0000 (Wed, 08 May 2024) EllapsedTime: 208.3 seconds RetCode: 0 Status: OK PackageFile: CytoMDS_1.0.0.tar.gz PackageFileSize: 3.024 MiB