Package: CytoMDS Version: 1.0.0 Command: /home/biocbuild/R/R-beta-2024-04-15_r86425/bin/R CMD INSTALL CytoMDS StartedAt: 2024-05-08 20:54:13 -0000 (Wed, 08 May 2024) EndedAt: 2024-05-08 20:54:31 -0000 (Wed, 08 May 2024) EllapsedTime: 18.3 seconds RetCode: 0 Status: OK