Package: CytoMDS Version: 1.0.0 Command: rm -rf CytoMDS.buildbin-libdir && mkdir CytoMDS.buildbin-libdir && /Users/biocbuild/BBS/utils/build-universal.sh CytoMDS_1.0.0.tar.gz /Library/Frameworks/R.framework/Resources/bin/R CytoMDS.buildbin-libdir StartedAt: 2024-06-10 00:13:57 -0400 (Mon, 10 Jun 2024) EndedAt: 2024-06-10 00:14:19 -0400 (Mon, 10 Jun 2024) EllapsedTime: 22.6 seconds RetCode: 0 Status: OK PackageFile: CytoMDS_1.0.0.tgz PackageFileSize: 3.119 MiB