Package: DAMEfinder Version: 1.16.0 Command: /Library/Frameworks/R.framework/Resources/bin/R CMD check --install=check:DAMEfinder.install-out.txt --library=/Library/Frameworks/R.framework/Resources/library --no-vignettes --timings DAMEfinder_1.16.0.tar.gz StartedAt: 2024-10-17 18:42:03 -0400 (Thu, 17 Oct 2024) EndedAt: 2024-10-17 18:48:05 -0400 (Thu, 17 Oct 2024) EllapsedTime: 362.2 seconds RetCode: 0 Status: OK CheckDir: DAMEfinder.Rcheck Warnings: 0