Package: DAMEfinder Version: 1.16.0 Command: rm -rf DAMEfinder.buildbin-libdir && mkdir DAMEfinder.buildbin-libdir && /Users/biocbuild/BBS/utils/build-universal.sh DAMEfinder_1.16.0.tar.gz /Library/Frameworks/R.framework/Resources/bin/R DAMEfinder.buildbin-libdir StartedAt: 2024-06-10 00:14:10 -0400 (Mon, 10 Jun 2024) EndedAt: 2024-06-10 00:14:50 -0400 (Mon, 10 Jun 2024) EllapsedTime: 39.6 seconds RetCode: 0 Status: OK PackageFile: DAMEfinder_1.16.0.tgz PackageFileSize: 5.045 MiB