Package: DAPAR Version: 1.36.3 Command: /home/biocbuild/bbs-3.19-bioc/R/bin/R CMD build --keep-empty-dirs --no-resave-data DAPAR StartedAt: 2024-10-16 18:04:47 -0400 (Wed, 16 Oct 2024) EndedAt: 2024-10-16 18:04:48 -0400 (Wed, 16 Oct 2024) EllapsedTime: 1.0 seconds RetCode: 0 Status: OK PackageFile: DAPAR_1.36.3.tar.gz PackageFileSize: 150.4 KiB